BEGIN:VCALENDAR
VERSION:2.0
PRODID:-//Refugee Orientation Centre Trust - ECPv5.3.1.1//NONSGML v1.0//EN
CALSCALE:GREGORIAN
METHOD:PUBLISH
X-WR-CALNAME:Refugee Orientation Centre Trust
X-ORIGINAL-URL:https://roctrust.org.nz
X-WR-CALDESC:Events for Refugee Orientation Centre Trust
BEGIN:VTIMEZONE
TZID:Pacific/Auckland
BEGIN:STANDARD
TZOFFSETFROM:+1300
TZOFFSETTO:+1200
TZNAME:NZST
DTSTART:20210403T140000
END:STANDARD
BEGIN:DAYLIGHT
TZOFFSETFROM:+1200
TZOFFSETTO:+1300
TZNAME:NZDT
DTSTART:20210925T140000
END:DAYLIGHT
END:VTIMEZONE
BEGIN:VEVENT
DTSTART;TZID=Pacific/Auckland:20210125T090000
DTEND;TZID=Pacific/Auckland:20210128T150000
DTSTAMP:20210121T144936
CREATED:20210112T010019Z
LAST-MODIFIED:20210112T011049Z
UID:3288-1611565200-1611846000@roctrust.org.nz
SUMMARY:Road Code Classes – Learners License [Spanish & Congolese]
DESCRIPTION:License to Learn - Roade Code for Learners License in Spanish and Congolese  \n  \n  \nWelcome to the New Year! \n  \nDid your New Year's resolution include getting your learner's license? If yes\, sign up now and come see us at our HQ in Frankton to kickstart 2021 with simple and comprehensive crash course on the New Zealand road code.  \n  \nWe can help you with all your questions and doubts. \nCome drive ahead this year.
URL:https://roctrust.org.nz/event/road-code-classes-learners-license-spanish-congolese/
LOCATION:ROC HQ\, 63 Kent Street Frankton\, Hamilton\, Waikato\, 3204\, New Zealand
CATEGORIES:Work Ready Events
ATTACH;FMTTYPE=image/jpeg:https://roctrust.org.nz/wp-content/uploads/2021/01/Learners-License-Jan-2021-SC.jpg
ORGANIZER;CN="ROC":MAILTO:admin@roctrust.org.nz
END:VEVENT
END:VCALENDAR